BEGIN:VCALENDAR
VERSION:2.0
PRODID:-//Retors Particulier - ECPv6.0.13.1//NONSGML v1.0//EN
CALSCALE:GREGORIAN
METHOD:PUBLISH
X-ORIGINAL-URL:https://retors-particulier.com
X-WR-CALDESC:évènements pour Retors Particulier
REFRESH-INTERVAL;VALUE=DURATION:PT1H
X-Robots-Tag:noindex
X-PUBLISHED-TTL:PT1H
BEGIN:VTIMEZONE
TZID:Europe/Paris
BEGIN:DAYLIGHT
TZOFFSETFROM:+0100
TZOFFSETTO:+0200
TZNAME:CEST
DTSTART:20250330T010000
END:DAYLIGHT
BEGIN:STANDARD
TZOFFSETFROM:+0200
TZOFFSETTO:+0100
TZNAME:CET
DTSTART:20251026T010000
END:STANDARD
END:VTIMEZONE
BEGIN:VEVENT
DTSTART;VALUE=DATE:20250331
DTEND;VALUE=DATE:20250407
DTSTAMP:20260424T204804
CREATED:20240905T160057Z
LAST-MODIFIED:20240905T160057Z
UID:5072-1743379200-1743983999@retors-particulier.com
SUMMARY:Semaine du 31/03/25 | LE BEAU MONDE |  Scène nationale d'Evreux (tournée en décentralisation)
DESCRIPTION:Semaine du 31/03/25 | LE BEAU MONDE |  Scène nationale d’Evreux (tournée en décentralisation)
URL:https://retors-particulier.com/event/semaine-du-31-03-25-le-beau-monde-scene-nationale-devreux-tournee-en-decentralisation/
CATEGORIES:Rémi Fortin
END:VEVENT
BEGIN:VEVENT
DTSTART;VALUE=DATE:20250415
DTEND;VALUE=DATE:20250419
DTSTAMP:20260424T204804
CREATED:20240905T160145Z
LAST-MODIFIED:20240905T160200Z
UID:5074-1744675200-1745020799@retors-particulier.com
SUMMARY:Du 15 au 18/04/25 | LE BEAU MONDE |  TNBA\, Bordeaux
DESCRIPTION:Du 15 au 18/04/25 | LE BEAU MONDE |  TNBA\, Bordeaux
URL:https://retors-particulier.com/event/semaine-du-31-03-25-le-beau-monde-scene-nationale-devreux-tournee-en-decentralisation-copy/
CATEGORIES:Rémi Fortin
END:VEVENT
BEGIN:VEVENT
DTSTART;VALUE=DATE:20250421
DTEND;VALUE=DATE:20250422
DTSTAMP:20260424T204804
CREATED:20240905T160322Z
LAST-MODIFIED:20240905T160322Z
UID:5077-1745193600-1745279999@retors-particulier.com
SUMMARY:Le 21/04/25 | LE BEAU MONDE |  Le Rezchaud\, Pont-de-Lignon
DESCRIPTION:Le 21/04/25 | LE BEAU MONDE |  Le Rezchaud\, Pont-de-Lignon
URL:https://retors-particulier.com/event/le-21-04-25-le-beau-monde-le-rezchaud-pont-de-lignon/
CATEGORIES:Rémi Fortin
END:VEVENT
BEGIN:VEVENT
DTSTART;VALUE=DATE:20250424
DTEND;VALUE=DATE:20250426
DTSTAMP:20260424T204804
CREATED:20240905T160415Z
LAST-MODIFIED:20240905T160415Z
UID:5079-1745452800-1745625599@retors-particulier.com
SUMMARY:Les 24 et 25/04/25 | LE BEAU MONDE |  Le Zef\, Marseille
DESCRIPTION:Les 24 et 25/04/25 | LE BEAU MONDE |  Le Zef\, Marseille
URL:https://retors-particulier.com/event/les-24-et-25-04-25-le-beau-monde-le-zef-marseille/
CATEGORIES:Rémi Fortin
END:VEVENT
END:VCALENDAR